BEGIN:VCALENDAR
VERSION:2.0
PRODID:-//Maruša Jovanović - eDogodek.si - ECPv6.15.16//NONSGML v1.0//EN
CALSCALE:GREGORIAN
METHOD:PUBLISH
X-WR-CALNAME:Maruša Jovanović - eDogodek.si
X-ORIGINAL-URL:https://www.edogodek.si
X-WR-CALDESC:Dogodki za Maruša Jovanović - eDogodek.si
REFRESH-INTERVAL;VALUE=DURATION:PT1H
X-Robots-Tag:noindex
X-PUBLISHED-TTL:PT1H
BEGIN:VTIMEZONE
TZID:Europe/Ljubljana
BEGIN:DAYLIGHT
TZOFFSETFROM:+0100
TZOFFSETTO:+0200
TZNAME:CEST
DTSTART:20250330T010000
END:DAYLIGHT
BEGIN:STANDARD
TZOFFSETFROM:+0200
TZOFFSETTO:+0100
TZNAME:CET
DTSTART:20251026T010000
END:STANDARD
BEGIN:DAYLIGHT
TZOFFSETFROM:+0100
TZOFFSETTO:+0200
TZNAME:CEST
DTSTART:20260329T010000
END:DAYLIGHT
BEGIN:STANDARD
TZOFFSETFROM:+0200
TZOFFSETTO:+0100
TZNAME:CET
DTSTART:20261025T010000
END:STANDARD
BEGIN:DAYLIGHT
TZOFFSETFROM:+0100
TZOFFSETTO:+0200
TZNAME:CEST
DTSTART:20270328T010000
END:DAYLIGHT
BEGIN:STANDARD
TZOFFSETFROM:+0200
TZOFFSETTO:+0100
TZNAME:CET
DTSTART:20271031T010000
END:STANDARD
END:VTIMEZONE
BEGIN:VEVENT
DTSTART;TZID=Europe/Ljubljana:20260424T090000
DTEND;TZID=Europe/Ljubljana:20260424T100000
DTSTAMP:20260420T004635
CREATED:20260316T075728Z
LAST-MODIFIED:20260410T065150Z
UID:16067-1777021200-1777024800@www.edogodek.si
SUMMARY:Pogovorne ure
DESCRIPTION:Link za Zoom je v sobi Spletni MAP – Soba za podporo in obvestila
URL:https://www.edogodek.si/dogodek/pogovorne-ure-2/
END:VEVENT
BEGIN:VEVENT
DTSTART;TZID=Europe/Ljubljana:20260417T100000
DTEND;TZID=Europe/Ljubljana:20260417T110000
DTSTAMP:20260420T004635
CREATED:20260331T073719Z
LAST-MODIFIED:20260331T073723Z
UID:16145-1776420000-1776423600@www.edogodek.si
SUMMARY:Podpora v živo za tvoj spletni hub
DESCRIPTION:Link za Zoom je v sobi Podpora za tvoj spletni hub
URL:https://www.edogodek.si/dogodek/podpora-v-zivo-za-tvoj-spletni-hub/
END:VEVENT
BEGIN:VEVENT
DTSTART;TZID=Europe/Ljubljana:20260417T090000
DTEND;TZID=Europe/Ljubljana:20260417T100000
DTSTAMP:20260420T004635
CREATED:20260316T074828Z
LAST-MODIFIED:20260410T065047Z
UID:16065-1776416400-1776420000@www.edogodek.si
SUMMARY:Pogovorne ure
DESCRIPTION:Link za Zoom je v sobi Spletni MAP – Soba za podporo in obvestila
URL:https://www.edogodek.si/dogodek/pogovorne-ure/
END:VEVENT
BEGIN:VEVENT
DTSTART;TZID=Europe/Ljubljana:20260410T090000
DTEND;TZID=Europe/Ljubljana:20260410T100000
DTSTAMP:20260420T004635
CREATED:20260215T093508Z
LAST-MODIFIED:20260410T064958Z
UID:15818-1775811600-1775815200@www.edogodek.si
SUMMARY:Pogovorne ure
DESCRIPTION:Link za Zoom je v sobi Spletni MAP – Soba za podporo in obvestila
URL:https://www.edogodek.si/dogodek/prodajaj-znanje-podajaj-pogovorne-ure-in-orodjarna-4/
END:VEVENT
BEGIN:VEVENT
DTSTART;TZID=Europe/Ljubljana:20260403T090000
DTEND;TZID=Europe/Ljubljana:20260403T100000
DTSTAMP:20260420T004635
CREATED:20260215T093403Z
LAST-MODIFIED:20260318T091808Z
UID:15817-1775206800-1775210400@www.edogodek.si
SUMMARY:Pogovorne ure
DESCRIPTION:Link za Zoom je v sobi Spletni MAP – Soba za podporo in obvestila.
URL:https://www.edogodek.si/dogodek/prodajaj-znanje-podajaj-pogovorne-ure-in-orodjarna-3/
END:VEVENT
BEGIN:VEVENT
DTSTART;TZID=Europe/Ljubljana:20260327T090000
DTEND;TZID=Europe/Ljubljana:20260327T100000
DTSTAMP:20260420T004635
CREATED:20260215T093327Z
LAST-MODIFIED:20260318T090637Z
UID:15816-1774602000-1774605600@www.edogodek.si
SUMMARY:Pogovorne ure
DESCRIPTION:Link za Zoom je v sobi Spletni MAP – Soba za podporo in obvestila.
URL:https://www.edogodek.si/dogodek/prodajaj-znanje-podajaj-pogovorne-ure-in-orodjarna-2/
END:VEVENT
BEGIN:VEVENT
DTSTART;TZID=Europe/Ljubljana:20260320T090000
DTEND;TZID=Europe/Ljubljana:20260320T100000
DTSTAMP:20260420T004635
CREATED:20260215T093210Z
LAST-MODIFIED:20260316T080442Z
UID:15815-1773997200-1774000800@www.edogodek.si
SUMMARY:Pogovorne ure
DESCRIPTION:Link za Zoom je v sobi Spletni MAP – Soba za podporo in obvestila.
URL:https://www.edogodek.si/dogodek/prodajaj-znanje-podajaj-pogovorne-ure-in-orodjarna/
END:VEVENT
END:VCALENDAR