BEGIN:VCALENDAR
VERSION:2.0
PRODID:-//Maruša Jovanović - eDogodek.si - ECPv6.15.16//NONSGML v1.0//EN
CALSCALE:GREGORIAN
METHOD:PUBLISH
X-WR-CALNAME:Maruša Jovanović - eDogodek.si
X-ORIGINAL-URL:https://www.edogodek.si
X-WR-CALDESC:Dogodki za Maruša Jovanović - eDogodek.si
REFRESH-INTERVAL;VALUE=DURATION:PT1H
X-Robots-Tag:noindex
X-PUBLISHED-TTL:PT1H
BEGIN:VTIMEZONE
TZID:Europe/Ljubljana
BEGIN:DAYLIGHT
TZOFFSETFROM:+0100
TZOFFSETTO:+0200
TZNAME:CEST
DTSTART:20250330T010000
END:DAYLIGHT
BEGIN:STANDARD
TZOFFSETFROM:+0200
TZOFFSETTO:+0100
TZNAME:CET
DTSTART:20251026T010000
END:STANDARD
BEGIN:DAYLIGHT
TZOFFSETFROM:+0100
TZOFFSETTO:+0200
TZNAME:CEST
DTSTART:20260329T010000
END:DAYLIGHT
BEGIN:STANDARD
TZOFFSETFROM:+0200
TZOFFSETTO:+0100
TZNAME:CET
DTSTART:20261025T010000
END:STANDARD
BEGIN:DAYLIGHT
TZOFFSETFROM:+0100
TZOFFSETTO:+0200
TZNAME:CEST
DTSTART:20270328T010000
END:DAYLIGHT
BEGIN:STANDARD
TZOFFSETFROM:+0200
TZOFFSETTO:+0100
TZNAME:CET
DTSTART:20271031T010000
END:STANDARD
END:VTIMEZONE
BEGIN:VEVENT
DTSTART;TZID=Europe/Ljubljana:20260529T090000
DTEND;TZID=Europe/Ljubljana:20260529T100000
DTSTAMP:20260419T225304
CREATED:20260215T094025Z
LAST-MODIFIED:20260410T073438Z
UID:15822-1780045200-1780048800@www.edogodek.si
SUMMARY:Pogovorne ure
DESCRIPTION:Link za Zoom je v sobi Spletni MAP – Soba za podporo in obvestila
URL:https://www.edogodek.si/dogodek/prodajaj-znanje-podajaj-pogovorne-ure-in-orodjarna-8/
END:VEVENT
END:VCALENDAR